BEGIN:VCALENDAR
VERSION:2.0
METHOD:PUBLISH
PRODID:-//Telerik Inc.//Sitefinity CMS 15.1//EN
BEGIN:VTIMEZONE
TZID:Eastern Standard Time
BEGIN:STANDARD
DTSTART:20251102T020000
RRULE:FREQ=YEARLY;BYDAY=1SU;BYHOUR=2;BYMINUTE=0;BYMONTH=11
TZNAME:Eastern Standard Time
TZOFFSETFROM:-0400
TZOFFSETTO:-0500
END:STANDARD
BEGIN:DAYLIGHT
DTSTART:20250301T020000
RRULE:FREQ=YEARLY;BYDAY=2SU;BYHOUR=2;BYMINUTE=0;BYMONTH=3
TZNAME:Eastern Daylight Time
TZOFFSETFROM:-0500
TZOFFSETTO:-0400
END:DAYLIGHT
END:VTIMEZONE
BEGIN:VEVENT
DESCRIPTION:&nbsp\;Please join us this semester for the Hindi-Urdu language
  table series. These events are a great opportunity to practice your conve
 rsation skills and learn more about Hindi-Urdu culture.&nbsp\; All are wel
 come to attend\, from beginners to native speakers.&nbsp\; South Asian spe
 cialty pizza and chai tea will be served.This semester\, the table is bein
 g hosted by Gautam Bajaj (’27 M.A. international relations) and Arti Gupta
  (’26 M.A. public diplomacy and global communications).Co-sponsored by the
  Department of Languages\, Literature and Linguistics.All events in this s
 eries are held from 3:45 - 4:45 p.m. in 341 Eggers Hall:Wednesday\, Jan. 2
 8Wednesday\, Feb. 11Wednesday\, Feb. 25Wednesday\, March 25Wednesday\, Apr
 il 8Wednesday\, April 22
DTEND:20260114T214500Z
DTSTAMP:20260424T072733Z
DTSTART:20260114T203000Z
LOCATION:
SEQUENCE:0
SUMMARY:Hindi-Urdu Culture and Conversation Table
UID:RFCALITEM639125980537227669
X-ALT-DESC;FMTTYPE=text/html:<p><strong>&nbsp\;</strong></p><p>Please join 
 us this semester for the Hindi-Urdu language table series. These events ar
 e a great opportunity to practice your conversation skills and learn more 
 about Hindi-Urdu culture.&nbsp\; All are welcome to attend\, from beginner
 s to native speakers.&nbsp\; </p><p><strong>South Asian specialty pizza an
 d chai tea will be served.</strong></p><p>This semester\, the table is bei
 ng hosted by Gautam Bajaj (’27 M.A. international relations) and Arti Gupt
 a (’26 M.A. public diplomacy and global communications).</p><p>Co-sponsore
 d by the Department of Languages\, Literature and Linguistics.</p><p>All e
 vents in this series are held from 3:45 - 4:45 p.m. in 341 Eggers Hall:</p
 ><div><div><span style="background-color: initial\; font-family: inherit\;
  font-size: inherit\; text-align: inherit\; text-transform: inherit\; word
 -spacing: normal\; caret-color: auto\; white-space: inherit">Wednesday\, J
 an. 28</span></div><div>Wednesday\, Feb. 11</div><div>Wednesday\, Feb. 25<
 /div><div>Wednesday\, March 25</div><div>Wednesday\, April 8</div><div>Wed
 nesday\, April 22</div></div><p><span style="background-color: rgba(0\, 0\
 , 0\, 0)\; color: inherit\; font-family: inherit\; font-size: inherit\; te
 xt-align: inherit\; text-transform: inherit\; word-spacing: normal\; caret
 -color: auto\; white-space: inherit"></span></p><div><strong></strong></di
 v><div><p></p></div>
END:VEVENT
END:VCALENDAR
